BEGIN:VCALENDAR
VERSION:2.0
PRODID:-//Elevated Arts - ECPv6.8.2.1//NONSGML v1.0//EN
CALSCALE:GREGORIAN
METHOD:PUBLISH
X-ORIGINAL-URL:https://elevatedarts.org
X-WR-CALDESC:Events for Elevated Arts
REFRESH-INTERVAL;VALUE=DURATION:PT1H
X-Robots-Tag:noindex
X-PUBLISHED-TTL:PT1H
BEGIN:VTIMEZONE
TZID:UTC
BEGIN:STANDARD
TZOFFSETFROM:+0000
TZOFFSETTO:+0000
TZNAME:UTC
DTSTART:20230101T000000
END:STANDARD
END:VTIMEZONE
BEGIN:VEVENT
DTSTART;TZID=UTC:20231024T000000
DTEND;TZID=UTC:20231024T013000
DTSTAMP:20260423T115312
CREATED:20231004T053939Z
LAST-MODIFIED:20231004T053939Z
UID:2773-1698105600-1698111000@elevatedarts.org
SUMMARY:Sound Healing Journey
DESCRIPTION:Experience a harmonious blend of music\, rhythms\, and spiritual healing! \nJoin Jeremy James\, Spiritualist & Shamanic Practitioner\, Owner of Elevated Arts for a Sound Healing Journey! You will be guided to discover one of your Spirit Animals and connect to its energy through the healing rhythmic sounds of drums\, rattles\, crystal singing bowls and more. \nLocated at LK Acupuncture\n10087 W. Lincoln Hwy\, Frankfort\, IL\nCall (815) 768-9795 to register! \nMonday\, October 23rd\n7pm-8:30pm\n$44 per person
URL:https://elevatedarts.org/event/sound-healing-journey/
LOCATION:10087 W. Lincoln Hwy\, Frankfort\, IL 60423\, 10087 W. Lincoln Hwy\, Frankfort\, IL\, 60423\, United States
CATEGORIES:Workshops
ATTACH;FMTTYPE=image/jpeg:https://elevatedarts.org/wp-content/uploads/2023/10/Sound-Hea.jpg
ORGANIZER;CN="Elevated Arts":MAILTO:elevatedarts3@gmail.com
END:VEVENT
END:VCALENDAR