BEGIN:VCALENDAR
VERSION:2.0
PRODID:-//Elevated Arts - ECPv6.8.2.1//NONSGML v1.0//EN
CALSCALE:GREGORIAN
METHOD:PUBLISH
X-ORIGINAL-URL:https://elevatedarts.org
X-WR-CALDESC:Events for Elevated Arts
REFRESH-INTERVAL;VALUE=DURATION:PT1H
X-Robots-Tag:noindex
X-PUBLISHED-TTL:PT1H
BEGIN:VTIMEZONE
TZID:UTC
BEGIN:STANDARD
TZOFFSETFROM:+0000
TZOFFSETTO:+0000
TZNAME:UTC
DTSTART:20210101T000000
END:STANDARD
END:VTIMEZONE
BEGIN:VEVENT
DTSTART;TZID=UTC:20210303T183000
DTEND;TZID=UTC:20210303T210000
DTSTAMP:20260420T030938
CREATED:20210201T154236Z
LAST-MODIFIED:20210201T154236Z
UID:2591-1614796200-1614805200@elevatedarts.org
SUMMARY:The Earth Way: Introduction to Shamanism Week 2- The Medicine Wheel: Honoring the Sacred Directions
DESCRIPTION:In Shamanism and many other spiritual traditions\, an energetic circle is created before all ceremonies\, prayers\, and workings. Each culture and tradition has their own specific way of calling and casting this sacred circle. Properly calling in circle is one of the most important and fundamental skills to learn that anyone on a spiritual path should acquire. You will learn who your personal directional guides and totems are\, how to call them in\, and the relevance and positive impact it may have on your life.
URL:https://elevatedarts.org/event/the-earth-way-introduction-to-shamanism-week-2-the-medicine-wheel-honoring-the-sacred-directions/
ATTACH;FMTTYPE=image/jpeg:https://elevatedarts.org/wp-content/uploads/2021/02/SHAMANICWK2.jpg
ORGANIZER;CN="Elevated Arts":MAILTO:elevatedarts3@gmail.com
END:VEVENT
BEGIN:VEVENT
DTSTART;TZID=UTC:20210309T183000
DTEND;TZID=UTC:20210309T210000
DTSTAMP:20260420T030938
CREATED:20210201T154512Z
LAST-MODIFIED:20210201T154512Z
UID:2599-1615314600-1615323600@elevatedarts.org
SUMMARY:The Earth Way: Introduction to Shamanism Week 3- The Wild Ones: Animal Totems 101
DESCRIPTION:Discover the spiritual significance and history of Animal Totems. You will learn the difference between Birth Totems\, Power Animals\, Animal Messengers\, Ancestral Totems\, and how we can work with them as guides to facilitate healing\, transformation\, and growth in your life and the lives of those you love.
URL:https://elevatedarts.org/event/the-earth-way-introduction-to-shamanism-week-3-the-wild-ones-animal-totems-101/
ATTACH;FMTTYPE=image/jpeg:https://elevatedarts.org/wp-content/uploads/2021/02/SHAMANICWK3.jpg
ORGANIZER;CN="Elevated Arts":MAILTO:elevatedarts3@gmail.com
END:VEVENT
BEGIN:VEVENT
DTSTART;TZID=UTC:20210317T183000
DTEND;TZID=UTC:20210317T210000
DTSTAMP:20260420T030938
CREATED:20210201T154702Z
LAST-MODIFIED:20210201T154702Z
UID:2601-1616005800-1616014800@elevatedarts.org
SUMMARY:The Earth Way: Introduction to Shamanism Week 4- Gifts of the Earth: Plant & Mineral Totems 101
DESCRIPTION:Crystals\, Minerals\, Herbs and Plants are tangible\, physical forms of the Earth’s energy. Millions of years old\, minerals & plants carry the natural life force of the earth. Every crystal & plant serves a different purpose and brings a unique energy & spirit into our life. Discover the power and medicine that these wonderful gifts of the Earth have to share.
URL:https://elevatedarts.org/event/the-earth-way-introduction-to-shamanism-week-4-gifts-of-the-earth-plant-mineral-totems-101/
ATTACH;FMTTYPE=image/jpeg:https://elevatedarts.org/wp-content/uploads/2021/02/SHAMANICWK4.jpg
ORGANIZER;CN="Elevated Arts":MAILTO:elevatedarts3@gmail.com
END:VEVENT
BEGIN:VEVENT
DTSTART;TZID=UTC:20210324T183000
DTEND;TZID=UTC:20210324T210000
DTSTAMP:20260420T030938
CREATED:20210201T154901Z
LAST-MODIFIED:20210201T154901Z
UID:2603-1616610600-1616619600@elevatedarts.org
SUMMARY:The Earth Way: Introduction to Shamanism Week 5- Offerings of Gratitude: Connecting to Ancestors & Spirit Guides
DESCRIPTION:Discover how to begin to communicate & connect to your spiritual team. You will learn simple ways to honor your Ancestors & Spirit Guides which will help strengthen your bond to these beings of light that surround and guide you.
URL:https://elevatedarts.org/event/the-earth-way-introduction-to-shamanism-week-5-offerings-of-gratitude-connecting-to-ancestors-spirit-guides/
ATTACH;FMTTYPE=image/jpeg:https://elevatedarts.org/wp-content/uploads/2021/02/SHAMANICWK5.jpg
ORGANIZER;CN="Elevated Arts":MAILTO:elevatedarts3@gmail.com
END:VEVENT
BEGIN:VEVENT
DTSTART;TZID=UTC:20210331T183000
DTEND;TZID=UTC:20210331T210000
DTSTAMP:20260420T030938
CREATED:20210201T155052Z
LAST-MODIFIED:20210201T155052Z
UID:2605-1617215400-1617224400@elevatedarts.org
SUMMARY:The Earth Way: Introduction to Shamanism Week 6- Dreaming Awake: Introduction to Shamanic Journeying
DESCRIPTION:Shamanic Journeying is a way of communicating with your Higher-Self\, Spirit Guides\, & Animal Totems by exploring the Spiritual Realms and retrieving information. These Spirits are in constant communication with all aspects of your environment\, seen and unseen. You need only journey within to find answers to your questions. In this course you will discover the basic beginner style of Shamanic Journeying and how you can utilize this technique for your own spiritual growth.
URL:https://elevatedarts.org/event/the-earth-way-introduction-to-shamanism-week-6-dreaming-awake-introduction-to-shamanic-journeying/
ATTACH;FMTTYPE=image/jpeg:https://elevatedarts.org/wp-content/uploads/2021/02/SHAMANICWK6.jpeg
ORGANIZER;CN="Elevated Arts":MAILTO:elevatedarts3@gmail.com
END:VEVENT
END:VCALENDAR