BEGIN:VCALENDAR
VERSION:2.0
PRODID:-//Elevated Arts - ECPv6.8.2.1//NONSGML v1.0//EN
CALSCALE:GREGORIAN
METHOD:PUBLISH
X-WR-CALNAME:Elevated Arts
X-ORIGINAL-URL:https://elevatedarts.org
X-WR-CALDESC:Events for Elevated Arts
REFRESH-INTERVAL;VALUE=DURATION:PT1H
X-Robots-Tag:noindex
X-PUBLISHED-TTL:PT1H
BEGIN:VTIMEZONE
TZID:UTC
BEGIN:STANDARD
TZOFFSETFROM:+0000
TZOFFSETTO:+0000
TZNAME:UTC
DTSTART:20210101T000000
END:STANDARD
END:VTIMEZONE
BEGIN:VEVENT
DTSTART;TZID=UTC:20211008T190000
DTEND;TZID=UTC:20211008T203000
DTSTAMP:20260420T110022
CREATED:20211001T164914Z
LAST-MODIFIED:20211001T165023Z
UID:2624-1633719600-1633725000@elevatedarts.org
SUMMARY:Learn to Protect & Cleanse your Aura
DESCRIPTION:Whether you are an Empath\, Lightworker\, or just find yourself surrounded by negativity\, this workshop is for you! Discover simple ways to protect and defend yourself from unwanted negative energy. You will also learn user friendly techniques to cleanse and clear yourself & your home.\n\n7-8:30pm\n$30\n\n\nThis event will be on zoom\, please call us at 708-808-6333 to register and receive your link!
URL:https://elevatedarts.org/event/learn-to-protect-cleanse-your-aura/
ATTACH;FMTTYPE=image/jpeg:https://elevatedarts.org/wp-content/uploads/2021/10/smudge.jpg
ORGANIZER;CN="Elevated Arts":MAILTO:elevatedarts3@gmail.com
END:VEVENT
END:VCALENDAR