BEGIN:VCALENDAR
VERSION:2.0
PRODID:-//Elevated Arts - ECPv6.8.2.1//NONSGML v1.0//EN
CALSCALE:GREGORIAN
METHOD:PUBLISH
X-ORIGINAL-URL:https://elevatedarts.org
X-WR-CALDESC:Events for Elevated Arts
REFRESH-INTERVAL;VALUE=DURATION:PT1H
X-Robots-Tag:noindex
X-PUBLISHED-TTL:PT1H
BEGIN:VTIMEZONE
TZID:UTC
BEGIN:STANDARD
TZOFFSETFROM:+0000
TZOFFSETTO:+0000
TZNAME:UTC
DTSTART:20210101T000000
END:STANDARD
END:VTIMEZONE
BEGIN:VEVENT
DTSTART;TZID=UTC:20210331T183000
DTEND;TZID=UTC:20210331T210000
DTSTAMP:20260420T044440
CREATED:20210201T155052Z
LAST-MODIFIED:20210201T155052Z
UID:2605-1617215400-1617224400@elevatedarts.org
SUMMARY:The Earth Way: Introduction to Shamanism Week 6- Dreaming Awake: Introduction to Shamanic Journeying
DESCRIPTION:Shamanic Journeying is a way of communicating with your Higher-Self\, Spirit Guides\, & Animal Totems by exploring the Spiritual Realms and retrieving information. These Spirits are in constant communication with all aspects of your environment\, seen and unseen. You need only journey within to find answers to your questions. In this course you will discover the basic beginner style of Shamanic Journeying and how you can utilize this technique for your own spiritual growth.
URL:https://elevatedarts.org/event/the-earth-way-introduction-to-shamanism-week-6-dreaming-awake-introduction-to-shamanic-journeying/
ATTACH;FMTTYPE=image/jpeg:https://elevatedarts.org/wp-content/uploads/2021/02/SHAMANICWK6.jpeg
ORGANIZER;CN="Elevated Arts":MAILTO:elevatedarts3@gmail.com
END:VEVENT
END:VCALENDAR