BEGIN:VCALENDAR
VERSION:2.0
PRODID:-//Elevated Arts - ECPv6.8.2.1//NONSGML v1.0//EN
CALSCALE:GREGORIAN
METHOD:PUBLISH
X-ORIGINAL-URL:https://elevatedarts.org
X-WR-CALDESC:Events for Elevated Arts
REFRESH-INTERVAL;VALUE=DURATION:PT1H
X-Robots-Tag:noindex
X-PUBLISHED-TTL:PT1H
BEGIN:VTIMEZONE
TZID:UTC
BEGIN:STANDARD
TZOFFSETFROM:+0000
TZOFFSETTO:+0000
TZNAME:UTC
DTSTART:20210101T000000
END:STANDARD
END:VTIMEZONE
BEGIN:VEVENT
DTSTART;TZID=UTC:20210224T183000
DTEND;TZID=UTC:20210224T210000
DTSTAMP:20260420T030942
CREATED:20210201T153201Z
LAST-MODIFIED:20210201T153201Z
UID:2587-1614191400-1614200400@elevatedarts.org
SUMMARY:The Earth Way: Introduction to Shamanism (7 Week Course)
DESCRIPTION:The Earth Way: Introduction to Shamanism\n7 Week Course\nIf you have found yourself curious to learn more about Shamanism but don’t know where to start\, this course is for you! Based on his personal experiences Jeremy has carefully chosen what he believes to be the fundamental and most important information to anyone starting to walk an Earth based spiritual path. This course is NOT teaching you how to become a Shaman\, but rather you will learn the basic Shamanic principals and belief systems of most ancient cultures. By the end of the 7 weeks you will have a stronger connection to the Earth\, your Guides\, and yourself. If you are ready to start this journey\, sign up today!\nEach course will go from 6:30-9pm (2.5 hrs)\nPrice for individual courses is $25 ($175 for the 7 weeks)\nPre-pay for entire course by Feb 17th and save $25 ($150 for the 7 weeks)\n*CLASS DATES & DESCRIPTIONS BELOW*\n\nWednesday Feb 24th: Week 1- Exploring the Shamanic Universe: The Three Worlds\nDiscover the Cosmology of Shamanism. We will explore the Upper\, Middle & Lower Worlds. These three worlds make up our universe and are connected through The World Tree\, understanding them can assist us in becoming more in tune to the world around us.\n\nWednesday March 3rd: Week 2- The Medicine Wheel: Honoring the Sacred Directions\nIn Shamanism and many other spiritual traditions\, an energetic circle is created before all ceremonies\, prayers\, and workings. Each culture and tradition has their own specific way of calling and casting this sacred circle. Properly calling in circle is one of the most important and fundamental skills to learn that anyone on a spiritual path should acquire. You will learn who your personal directional guides and totems are\, how to call them in\, and the relevance and positive impact it may have on your life.\n\nTuesday March 9th: Week 3- The Wild Ones: Animal Totems 101\nDiscover the spiritual significance and history of Animal Totems. You will learn the difference between Birth Totems\, Power Animals\, Animal Messengers\, Ancestral Totems\, and how we can work with them as guides to facilitate healing\, transformation\, and growth in your life and the lives of those you love.\n\nWednesday March 17th: Week 4- Gifts of the Earth: Plant & Mineral Totems 101\nCrystals\, Minerals\, Herbs and Plants are tangible\, physical forms of the Earth’s energy. Millions of years old\, minerals & plants carry the natural life force of the earth. Every crystal & plant serves a different purpose and brings a unique energy & spirit into our life. Discover the power and medicine that these wonderful gifts of the Earth have to share.\n\nWednesday March 24th: Week 5- Offerings of Gratitude: Connecting to Ancestors & Spirit Guides\nDiscover how to begin to communicate & connect to your spiritual team. You will learn simple ways to honor your Ancestors & Spirit Guides which will help strengthen your bond to these beings of light that surround and guide you.\n\nWednesday March 31st: Week 6- Dreaming Awake: Introduction to Shamanic Journeying\nShamanic Journeying is a way of communicating with your Higher-Self\, Spirit Guides\, & Animal Totems by exploring the Spiritual Realms and retrieving information. These Spirits are in constant communication with all aspects of your environment\, seen and unseen. You need only journey within to find answers to your questions. In this course you will discover the basic beginner style of Shamanic Journeying and how you can utilize this technique for your own spiritual growth.\n\nWednesday April 7th: Week 7- The Earth Way: The Journey Begins\nThis workshop will bring all of the prior 6 weeks full circle. We will come together and co-create a ceremony with a collective and individual intention. We will drum\, rattle\, share\, and connect to each other and the beautiful presence of our Mother Earth and all of the spiritual energy she has to share with us.\n*In order to attend this session you have to attend the 6 prior sessions.\n\nEach course will go from 6:30-9pm (2.5 hrs)\nPrice for individual courses is $25 ($175 for the 7 weeks)\nPre-pay for entire course by Feb 17th and save $25 ($150 for the 7 weeks)\nVenmo @Jeremy-Bieser (picture is of flowers)\nor Paypal – jeremybieser@aol.com\nDebit card payment may also be taken over the phone\n@ 708-808-6333.\nThank you!\nPlease call 708-808-6333 to register or send an email to elevatedarts3@gmail.com.\nThe first 6 courses will be via Zoom.
URL:https://elevatedarts.org/event/the-earth-way-introduction-to-shamanism-7-week-course/
ATTACH;FMTTYPE=image/jpeg:https://elevatedarts.org/wp-content/uploads/2021/02/SHAMANICCOURSE1.jpg
ORGANIZER;CN="Elevated Arts":MAILTO:elevatedarts3@gmail.com
END:VEVENT
END:VCALENDAR