BEGIN:VCALENDAR
VERSION:2.0
PRODID:-//Elevated Arts - ECPv6.8.2.1//NONSGML v1.0//EN
CALSCALE:GREGORIAN
METHOD:PUBLISH
X-WR-CALNAME:Elevated Arts
X-ORIGINAL-URL:https://elevatedarts.org
X-WR-CALDESC:Events for Elevated Arts
REFRESH-INTERVAL;VALUE=DURATION:PT1H
X-Robots-Tag:noindex
X-PUBLISHED-TTL:PT1H
BEGIN:VTIMEZONE
TZID:UTC
BEGIN:STANDARD
TZOFFSETFROM:+0000
TZOFFSETTO:+0000
TZNAME:UTC
DTSTART:20200101T000000
END:STANDARD
END:VTIMEZONE
BEGIN:VEVENT
DTSTART;TZID=UTC:20201124T183000
DTEND;TZID=UTC:20201124T200000
DTSTAMP:20260419T203414
CREATED:20201107T155044Z
LAST-MODIFIED:20201107T160023Z
UID:2557-1606242600-1606248000@elevatedarts.org
SUMMARY:Step into Gratitude Workshop & Meditation!
DESCRIPTION:Gratitude is one of the highest vibrations we can connect to. Through living with more gratitude in our hearts and in our daily lives we can see major and profound changes in our moods and reality. Gratitude as a soulful practice creates all sorts of abundance and happiness in your world. For those reasons alone it’s a wise investment\, but it also shifts your energy in subtle\, and powerful ways.\nGratitude creates changes at the emotional and mental levels\, it also changes your body at a cellular level. There have been plenty of studies demonstrating how gratitude reduces levels of stress and that is reason enough to focus on your abundant flow. Living life with a more intentional and grateful heart can help us to forgive and let go of the past\, and catapult us forward into the life we are wanting! During this time of year are you getting caught up in the rush of the holiday craze or are you remaining present and in a space of gratitude? Join Jeremy for this workshop and be reminded of all that you have to be grateful for and how to better acknowledge these things on a daily basis. We will end with a gratitude meditation and prayer.\n6:30 – 8 PM\n$20\nPayment methods:\nVenmo @Jeremy-Bieser (picture is of flowers)\nor Paypal – jeremybieser@aol.com\nDebit card payment may also be taking over the phone\n@ 708-808-6333.\nThis event is via zoom and will be recorded; if you want to join but can’t attend at the time\, you can purchase the class and receive the recording.\nThank you!
URL:https://elevatedarts.org/event/step-into-gratitude-workshop-meditation/
ATTACH;FMTTYPE=image/jpeg:https://elevatedarts.org/wp-content/uploads/2020/11/gratitudeclass.jpg
ORGANIZER;CN="Elevated Arts":MAILTO:elevatedarts3@gmail.com
END:VEVENT
END:VCALENDAR