BEGIN:VCALENDAR
VERSION:2.0
PRODID:-//Elevated Arts - ECPv6.8.2.1//NONSGML v1.0//EN
CALSCALE:GREGORIAN
METHOD:PUBLISH
X-WR-CALNAME:Elevated Arts
X-ORIGINAL-URL:https://elevatedarts.org
X-WR-CALDESC:Events for Elevated Arts
REFRESH-INTERVAL;VALUE=DURATION:PT1H
X-Robots-Tag:noindex
X-PUBLISHED-TTL:PT1H
BEGIN:VTIMEZONE
TZID:UTC
BEGIN:STANDARD
TZOFFSETFROM:+0000
TZOFFSETTO:+0000
TZNAME:UTC
DTSTART:20200101T000000
END:STANDARD
END:VTIMEZONE
BEGIN:VEVENT
DTSTART;TZID=UTC:20201120T180000
DTEND;TZID=UTC:20201120T210000
DTSTAMP:20260419T203414
CREATED:20201107T155844Z
LAST-MODIFIED:20201107T155844Z
UID:2564-1605895200-1605906000@elevatedarts.org
SUMMARY:Monthly Medicine & Magic (Pyrite\, Peacock\, Ginger)
DESCRIPTION:Mother Earth has blessed us with so many amazing and powerful allies\, her magical and healing children; the Animal Totems\, Crystals\, and Plant Medicine. Are you looking to connect deeper to the Earth and all the amazing magic she has to offer? Then join Jeremy as he discusses the medicine and magic of one animal spirit\, one crystal\, and one plant.\nEach month\, you will discover the symbolism and properties of Mother Nature’s creation\, and how they work together to bring about a transformational energy into your life. Most importantly\, you will learn how to work with this medicine\, to assist yourself and others for healing & transformation!\nNovember’s trio consists of Pyrite\, Peacock and Ginger. This trio will assist us in igniting our inner fire. Help stimulate motivation\, confidence\, embrace our gifts and divine aspects\, encourage us to step into our purpose and anchor us deep into the earth.\n\nWe will now be offering a box themed for each month’s energies. If you are interested in a box please place your order no later than Saturday November 11th. November’s Medicine & Magic Box will contain:\n1- Handmade Ginger scented candle- Blessed and infused with the energies of Peacock.\n1- Handmade Ginger scented soap – Blessed and infused with the energies of Peacock.\n1- Pyrite Crystal\n1-Lemon Ginger Tea\n1- Collectable Medicine & Magic Artwork\nClass-$20\nMedicine & Magic Box- $20\nTotal- $40\n\nPayment methods:\nVenmo @Jeremy-Bieser (picture is of flowers)\nor Paypal – jeremybieser@aol.com\nDebit card payment may also be taking over the phone\n@ 708-808-6333.\nThis event is via zoom and will be recorded; if you want to join but can’t attend at the time\, you can purchase the class and receive the recording.\nThank you!
URL:https://elevatedarts.org/event/monthly-medicine-magic-pyrite-peacock-ginger/
ATTACH;FMTTYPE=image/jpeg:https://elevatedarts.org/wp-content/uploads/2020/11/mmm-peacock.jpg
ORGANIZER;CN="Elevated Arts":MAILTO:elevatedarts3@gmail.com
END:VEVENT
END:VCALENDAR