BEGIN:VCALENDAR
VERSION:2.0
PRODID:-//Elevated Arts - ECPv6.8.2.1//NONSGML v1.0//EN
CALSCALE:GREGORIAN
METHOD:PUBLISH
X-WR-CALNAME:Elevated Arts
X-ORIGINAL-URL:https://elevatedarts.org
X-WR-CALDESC:Events for Elevated Arts
REFRESH-INTERVAL;VALUE=DURATION:PT1H
X-Robots-Tag:noindex
X-PUBLISHED-TTL:PT1H
BEGIN:VTIMEZONE
TZID:UTC
BEGIN:STANDARD
TZOFFSETFROM:+0000
TZOFFSETTO:+0000
TZNAME:UTC
DTSTART:20200101T000000
END:STANDARD
END:VTIMEZONE
BEGIN:VEVENT
DTSTART;TZID=UTC:20201113T183000
DTEND;TZID=UTC:20201113T200000
DTSTAMP:20260419T204559
CREATED:20201107T155427Z
LAST-MODIFIED:20201107T155427Z
UID:2562-1605292200-1605297600@elevatedarts.org
SUMMARY:Soul Empowerment with The Divine Mother (Kali)
DESCRIPTION:The Goddess is one of the most loving\, healing and guiding energies one may be graced to encounter. Her comforting presence is one our planet is in need of. Join Jeremy as he channels the immaculate spirit of The Divine Feminine in whatever form she chooses to present herself as ( Mother Mary\, Kwan Yin\, Isis\, Kali\, Tara\, Mother Earth etc.) and brings her messages & healing heart through. Her message is one of empowerment which guides us towards the awakening of our fullest potential.\n\nDuring this session\, Jeremy will lead everyone through a brief guided meditation to connect and call forth the Divine Mother’s pure loving energy. Healing work will be facilitated by The Blessed Mother as Jeremy relays the messages her spirit brings forward. This is a monthly event and the message and healing that are brought forth will vary each month based on the people in attendance.\nNovember’s message and healing will be connecting to the Goddess Kali. Kali’s sacred holiday is on November 14th so we will be celebrating her on Friday the 13th\, a sacred goddess day! She will be bringing us messages for deep inner transformation.\n\n6:30 – 7:45 pm\n$20 – Payment methods:\nVenmo @Jeremy-Bieser (picture is of flowers)\nor Paypal – jeremybieser@aol.com\nDebit card payment may also be taking over the phone\n@ 708-808-6333.\nThank you!\nThis event is via Zoom.\nPlease call 708-808-6333 to register\nNote: This is a combination of a Group Healing and a Spiritual Channeling.
URL:https://elevatedarts.org/event/soul-empowerment-with-the-divine-mother-kali/
ATTACH;FMTTYPE=image/jpeg:https://elevatedarts.org/wp-content/uploads/2020/11/kalisoulempowerment.jpg
ORGANIZER;CN="Elevated Arts":MAILTO:elevatedarts3@gmail.com
END:VEVENT
END:VCALENDAR