BEGIN:VCALENDAR
VERSION:2.0
PRODID:-//Elevated Arts - ECPv6.8.2.1//NONSGML v1.0//EN
CALSCALE:GREGORIAN
METHOD:PUBLISH
X-ORIGINAL-URL:https://elevatedarts.org
X-WR-CALDESC:Events for Elevated Arts
REFRESH-INTERVAL;VALUE=DURATION:PT1H
X-Robots-Tag:noindex
X-PUBLISHED-TTL:PT1H
BEGIN:VTIMEZONE
TZID:UTC
BEGIN:STANDARD
TZOFFSETFROM:+0000
TZOFFSETTO:+0000
TZNAME:UTC
DTSTART:20200101T000000
END:STANDARD
END:VTIMEZONE
BEGIN:VEVENT
DTSTART;TZID=UTC:20201021T183000
DTEND;TZID=UTC:20201021T203000
DTSTAMP:20260419T205351
CREATED:20201007T182221Z
LAST-MODIFIED:20201007T182221Z
UID:2549-1603305000-1603312200@elevatedarts.org
SUMMARY:The Torch of Persephone: Journey into the Subconscious
DESCRIPTION:The Torch of Persephone: Journey into the Subconscious\nPersephone is known as the Goddess of Springtime and the Queen of the Underworld. Every fall she makes her descent to the underworld (subconscious mind) and every spring she returns to earth (conscious mind). This journey she takes is a metaphor for the cycles of nature but also the time we spend inside of our own self\, exploring our inner mind and thoughts.\nJoin us for this event as we delve into the mysteries of Persephone. We will be working with Persephone as our guide to access our subconscious mind. We will begin to heal deep seeded traumas and wounds that are ready to be brought to the light. We will combine guided meditation\, ritual\, prayer\, music and more to call forth the holy presence of Persephone.\nThis is an online event\, via Zoom.\n6:30-8:30pm\n$20 – Payment methods:\nVenmo @Jeremy-Bieser (picture is of flowers)\nor Paypal – jeremybieser@aol.com\nDebit card payment may also be taking over the phone\n@ 708-808-6333.\nThank you!
URL:https://elevatedarts.org/event/the-torch-of-persephone-journey-into-the-subconscious/
ATTACH;FMTTYPE=image/jpeg:https://elevatedarts.org/wp-content/uploads/2020/10/120576087_1025041481289286_2309447406460627755_o.jpg
ORGANIZER;CN="Elevated Arts":MAILTO:elevatedarts3@gmail.com
END:VEVENT
END:VCALENDAR