BEGIN:VCALENDAR
VERSION:2.0
PRODID:-//Elevated Arts - ECPv6.8.2.1//NONSGML v1.0//EN
CALSCALE:GREGORIAN
METHOD:PUBLISH
X-ORIGINAL-URL:https://elevatedarts.org
X-WR-CALDESC:Events for Elevated Arts
REFRESH-INTERVAL;VALUE=DURATION:PT1H
X-Robots-Tag:noindex
X-PUBLISHED-TTL:PT1H
BEGIN:VTIMEZONE
TZID:UTC
BEGIN:STANDARD
TZOFFSETFROM:+0000
TZOFFSETTO:+0000
TZNAME:UTC
DTSTART:20200101T000000
END:STANDARD
END:VTIMEZONE
BEGIN:VEVENT
DTSTART;TZID=UTC:20200818T183000
DTEND;TZID=UTC:20200818T203000
DTSTAMP:20260419T161026
CREATED:20200805T003413Z
LAST-MODIFIED:20200805T003413Z
UID:2538-1597775400-1597782600@elevatedarts.org
SUMMARY:Manifestation with the New Moon
DESCRIPTION:Join us for the night of the New Moon and start to plant the seeds of new beginnings!\nYou will discover the power of the New Moon\, how to work with lunar energy for manifestation\, how to set intentions\, and the importance of clear intentions.\nThe New Moon is a potent time to manifest your heart’s desires! We will devote time to meditation\, journaling\, and sharing some hope’s\, wishes\, and goals for the New Moon cycle. It will be a wonderful night of transformation!\n$20 – Payment methods:\nVenmo @Jeremy-Bieser (picture is of flowers)\nor Paypal – jeremybieser@aol.com\nDebit card payment may also be taking over the phone\n@ 708-808-6333.\nThis event is via Zoom.
URL:https://elevatedarts.org/event/manifestation-with-the-new-moon/
ATTACH;FMTTYPE=image/jpeg:https://elevatedarts.org/wp-content/uploads/2020/08/Screenshot_20200804-120414_Facebook.jpg
ORGANIZER;CN="Elevated Arts":MAILTO:elevatedarts3@gmail.com
END:VEVENT
END:VCALENDAR