BEGIN:VCALENDAR
VERSION:2.0
PRODID:-//Elevated Arts - ECPv6.8.2.1//NONSGML v1.0//EN
CALSCALE:GREGORIAN
METHOD:PUBLISH
X-ORIGINAL-URL:https://elevatedarts.org
X-WR-CALDESC:Events for Elevated Arts
REFRESH-INTERVAL;VALUE=DURATION:PT1H
X-Robots-Tag:noindex
X-PUBLISHED-TTL:PT1H
BEGIN:VTIMEZONE
TZID:UTC
BEGIN:STANDARD
TZOFFSETFROM:+0000
TZOFFSETTO:+0000
TZNAME:UTC
DTSTART:20200101T000000
END:STANDARD
END:VTIMEZONE
BEGIN:VEVENT
DTSTART;TZID=UTC:20200809T110000
DTEND;TZID=UTC:20200809T133000
DTSTAMP:20260419T161150
CREATED:20200805T003039Z
LAST-MODIFIED:20200805T003039Z
UID:2533-1596970800-1596979800@elevatedarts.org
SUMMARY:Communing with the Elements: an Outdoor Experience
DESCRIPTION:Let’s reunite our community circle\, as we come back together for the first time in months for the purpose of healing!\nWe will be meeting at a sacred spot in nature that will be shared once you have registered for this workshop.\nFor the first part of the event\, you will be guided through a forest hike near water\, where you will be left to explore\, meditate\, journal\, and connect with the Spirits of the Trees\, Animal Totems\, and Elementals. This will be a wonderful opportunity to experience the beauty of nature.\nIn the second part of this event\, we will be walking the labyrinth as a group for the intention of healing ourselves\, and the planet. Upon reaching the center\, you will receive a blessing of the four elements by Jeremy.\nWe will conclude the event with a meditation and drum circle. Please bring a rattle\, drum\, or other sound healing instrument of your choice. Also\, water\, a journal\, writing utensil\, and any crystals\, incense\, or flowers that you feel called to bring.\nDress for the weather\, and wear shoes and clothes you don’t mind getting dirty.\nThis will be an amazing experience! We can’t wait to see you!\nPlease bring a face mask\, we will be practicing social distancing.\n$33\n11am-1:30pm\nPlease call to register @ 708-808-6333.
URL:https://elevatedarts.org/event/communing-with-the-elements-an-outdoor-experience/
ATTACH;FMTTYPE=image/jpeg:https://elevatedarts.org/wp-content/uploads/2020/08/20200804_185347.jpg
ORGANIZER;CN="Elevated Arts":MAILTO:elevatedarts3@gmail.com
END:VEVENT
END:VCALENDAR