BEGIN:VCALENDAR
VERSION:2.0
PRODID:-//Elevated Arts - ECPv6.8.2.1//NONSGML v1.0//EN
CALSCALE:GREGORIAN
METHOD:PUBLISH
X-WR-CALNAME:Elevated Arts
X-ORIGINAL-URL:https://elevatedarts.org
X-WR-CALDESC:Events for Elevated Arts
REFRESH-INTERVAL;VALUE=DURATION:PT1H
X-Robots-Tag:noindex
X-PUBLISHED-TTL:PT1H
BEGIN:VTIMEZONE
TZID:UTC
BEGIN:STANDARD
TZOFFSETFROM:+0000
TZOFFSETTO:+0000
TZNAME:UTC
DTSTART:20200101T000000
END:STANDARD
END:VTIMEZONE
BEGIN:VEVENT
DTSTART;TZID=UTC:20200805T183000
DTEND;TZID=UTC:20200805T200000
DTSTAMP:20260419T160834
CREATED:20200805T002435Z
LAST-MODIFIED:20200805T002800Z
UID:2526-1596652200-1596657600@elevatedarts.org
SUMMARY:Spirals of Life: Learning the Labyrinth
DESCRIPTION:You get lost in a maze. A labyrinth is where you find yourself…\nLabyrinths are ancient patterns found all over the world. They are of many types sharing a single overall design. Their origin is as mysterious and their uses are as varied as their patterns are.\nThe labyrinth pattern had no particular start that we know of. It is an archetype in the human mind. Labyrinth patterns are universal\, The earliest reported labyrinth was a two-story stone building in Egypt.\nIn the Middle Ages\, walking a cathedral labyrinth was a substitute for going on a pilgrimage to Jerusalem. Today meandering labyrinths are often used as walking meditations\, to focus the mind and put the walker in tune with the greater reality metaphorically represented by the labyrinth.\nPassing to the center of the labyrinth and returning to its circumference represents the involution and evolution of the universe\, the coming into birth and the passing out of earthly life of an individual\, and–most important–a journey into the center of our own being\, the achievement there of a quest for wholeness\, and the subsequent return to our divine source.\nJoin Jeremy for this informational discussion that will prepare you for our in person event on Sunday August 9th\, Communing with the Elements: an Outdoor Experience\, where we will actually be walking a labyrinth with the intention of healing.\n6:30-8pm\n$20 – Payment methods:\nVenmo @Jeremy-Bieser (picture is of flowers)\nor Paypal – jeremybieser@aol.com\nDebit card payment may also be taking over the phone\n@ 708-808-6333.\nThis event is via Zoom.
URL:https://elevatedarts.org/event/spirals-of-life-learning-the-labyrinth/
ATTACH;FMTTYPE=image/jpeg:https://elevatedarts.org/wp-content/uploads/2020/08/Screenshot_20200804-120429_Facebook.jpg
ORGANIZER;CN="Elevated Arts":MAILTO:elevatedarts3@gmail.com
END:VEVENT
END:VCALENDAR