BEGIN:VCALENDAR
VERSION:2.0
PRODID:-//Elevated Arts - ECPv6.8.2.1//NONSGML v1.0//EN
CALSCALE:GREGORIAN
METHOD:PUBLISH
X-WR-CALNAME:Elevated Arts
X-ORIGINAL-URL:https://elevatedarts.org
X-WR-CALDESC:Events for Elevated Arts
REFRESH-INTERVAL;VALUE=DURATION:PT1H
X-Robots-Tag:noindex
X-PUBLISHED-TTL:PT1H
BEGIN:VTIMEZONE
TZID:UTC
BEGIN:STANDARD
TZOFFSETFROM:+0000
TZOFFSETTO:+0000
TZNAME:UTC
DTSTART:20200101T000000
END:STANDARD
END:VTIMEZONE
BEGIN:VEVENT
DTSTART;TZID=UTC:20200719T120000
DTEND;TZID=UTC:20200719T140000
DTSTAMP:20260419T173420
CREATED:20200708T040601Z
LAST-MODIFIED:20200715T020804Z
UID:2270-1595160000-1595167200@elevatedarts.org
SUMMARY:Deeply Rooted: Intro to Tree Magic
DESCRIPTION:Trees carry the energy and essence of all of life and creation. They hold the ancient wisdom of our Ancestor’s. They are our connection back into Mother Earth’s embrace. \nJoin Jeremy as he discusses the spiritual and health significance of connecting with Trees. You will be taken through a guided visualization to meet your personal Tree Spirit Guide. Join us for this amazing night! A part II outdoor field trip will be scheduled next month for us to come together and physically connect with tree spirits. More information to be announced. \n$20 – Payment methods:\nVenmo @Jeremy-Bieser (picture is of flowers)\nor Paypal – jeremybieser@aol.com\nDebit card payment may also be taken over the phone @ 708-808-6333.\nThis class is via Zoom.\nThank you!
URL:https://elevatedarts.org/event/deeply-rooted-intro-to-tree-magic/
CATEGORIES:Online Workshops
ATTACH;FMTTYPE=image/jpeg:https://elevatedarts.org/wp-content/uploads/2020/07/deeply-rooted.jpg
ORGANIZER;CN="Elevated Arts":MAILTO:elevatedarts3@gmail.com
END:VEVENT
END:VCALENDAR